BEGIN:VCALENDAR
VERSION:2.0
PRODID:-//CKDH - ECPv4.6.26//NONSGML v1.0//EN
CALSCALE:GREGORIAN
METHOD:PUBLISH
X-WR-CALNAME:CKDH
X-ORIGINAL-URL:https://ckdh.com
X-WR-CALDESC:Events for CKDH
BEGIN:VEVENT
DTSTART;TZID=America/Halifax:20181021T190000
DTEND;TZID=America/Halifax:20181021T190000
DTSTAMP:20260424T113125
CREATED:20181009T155631Z
LAST-MODIFIED:20181009T155631Z
UID:5002-1540148400-1540148400@ckdh.com
SUMMARY:Evening of Gospel Music
DESCRIPTION:There’s an Evening of Gospel Music\, Sun Oct 21 at 7 at Christ Church Anglican. It will feature the music of Pic “n” Grin and the Carter Girls. Admission is a free will offering. There will be door prizes. All money raised are for the painting of the historic Church of the Good Shepherd in Tidnish. \n
URL:https://ckdh.com/event/evening-of-gospel-music/
END:VEVENT
END:VCALENDAR