BEGIN:VCALENDAR
VERSION:2.0
PRODID:-//CKDH - ECPv4.6.26//NONSGML v1.0//EN
CALSCALE:GREGORIAN
METHOD:PUBLISH
X-WR-CALNAME:CKDH
X-ORIGINAL-URL:https://ckdh.com
X-WR-CALDESC:Events for CKDH
BEGIN:VEVENT
DTSTART;TZID=UTC+0:20170719T110000
DTEND;TZID=UTC+0:20170719T140000
DTSTAMP:20260423T110615
CREATED:20170619T172845Z
LAST-MODIFIED:20170619T172845Z
UID:1054-1500462000-1500472800@ckdh.com
SUMMARY:Evil Genius Club
DESCRIPTION:The Evil Genius Club is back at the Springhill Library\, Wed Jul 19 from 11-2. Experiment with new technology. You can code with Ozobots\, build circuits with LittleBits and construct robots with Cubelets. The Evil Genius Club is for ages 9+. Call 902-597-2211 for more information. \n
URL:https://ckdh.com/event/evil-genius-club/
END:VEVENT
END:VCALENDAR