BEGIN:VCALENDAR
VERSION:2.0
PRODID:-//CKDH - ECPv4.6.26//NONSGML v1.0//EN
CALSCALE:GREGORIAN
METHOD:PUBLISH
X-WR-CALNAME:CKDH
X-ORIGINAL-URL:https://ckdh.com
X-WR-CALDESC:Events for CKDH
BEGIN:VEVENT
DTSTART;TZID=America/Halifax:20191004T180000
DTEND;TZID=America/Halifax:20191004T180000
DTSTAMP:20260420T205427
CREATED:20191002T160229Z
LAST-MODIFIED:20191002T160229Z
UID:6739-1570212000-1570212000@ckdh.com
SUMMARY:Family Fun Night
DESCRIPTION:Friday Night Fun is back at the YMCA of Cumberland this Friday. It’s a fun night of activities\, like crafts\, games\, swimming and the canteen. Ages 5-8 go between 6 and 8\, ages 9-14 from 8-10. The cost is $2. Space is limited\, so registration starts Wednesday for the upcoming Friday. For more information or to register\, call the Y at 902-667-9112. \n
URL:https://ckdh.com/event/family-fun-night/
END:VEVENT
END:VCALENDAR