BEGIN:VCALENDAR
VERSION:2.0
PRODID:-//CKDH - ECPv4.6.26//NONSGML v1.0//EN
CALSCALE:GREGORIAN
METHOD:PUBLISH
X-WR-CALNAME:CKDH
X-ORIGINAL-URL:https://ckdh.com
X-WR-CALDESC:Events for CKDH
BEGIN:VEVENT
DTSTART;TZID=UTC+0:20170420T180000
DTEND;TZID=UTC+0:20170420T200000
DTSTAMP:20260419T150859
CREATED:20170403T184248Z
LAST-MODIFIED:20170403T184248Z
UID:517-1492711200-1492718400@ckdh.com
SUMMARY:Fibre Arts Friends
DESCRIPTION:The next gathering at the Fibre Arts Friends at the Joggins Fossil Centre is Thursday April 20th from 6-8. If you are a knitters\, rug hooker\, weaver or anyone\, 18 and older\, who works with fibre arts\, are welcome to spend two hours a month sharing your passion with friends while enjoying the inspiring view of the world-famous Joggins Fossil Cliffs.  Fibre Arts Friends meet the third Thursday of each month. There is no fee and no need to register\, just show up with your project and supplies and start creating. For more information\, contact Laurie at 902-251-2727. \n
URL:https://ckdh.com/event/fibre-arts-friends/
END:VEVENT
END:VCALENDAR