BEGIN:VCALENDAR
VERSION:2.0
PRODID:-//CKDH - ECPv4.6.26//NONSGML v1.0//EN
CALSCALE:GREGORIAN
METHOD:PUBLISH
X-WR-CALNAME:CKDH
X-ORIGINAL-URL:https://ckdh.com
X-WR-CALDESC:Events for CKDH
BEGIN:VEVENT
DTSTART;TZID=UTC+0:20170422T110000
DTEND;TZID=UTC+0:20170422T190000
DTSTAMP:20260421T054655
CREATED:20170411T185129Z
LAST-MODIFIED:20170411T185232Z
UID:670-1492858800-1492887600@ckdh.com
SUMMARY:Filler Up Fundraiser
DESCRIPTION:The Springhill Lions are having a Filler Up Fundraiser at the XTR Sat\, Apr 22nd from 11-7. They will be providing full service\, pumping gas for a donation. XTR will have rental movies and microwave popcorn on special for that day only for $3.99 no tax. \n
URL:https://ckdh.com/event/filler-up-fundraiser/
END:VEVENT
END:VCALENDAR