BEGIN:VCALENDAR
VERSION:2.0
PRODID:-//CKDH - ECPv4.6.26//NONSGML v1.0//EN
CALSCALE:GREGORIAN
METHOD:PUBLISH
X-WR-CALNAME:CKDH
X-ORIGINAL-URL:https://ckdh.com
X-WR-CALDESC:Events for CKDH
BEGIN:VEVENT
DTSTART;TZID=America/Halifax:20201107T090000
DTEND;TZID=America/Halifax:20201107T140000
DTSTAMP:20260422T104532
CREATED:20201102T160203Z
LAST-MODIFIED:20201102T160203Z
UID:8100-1604739600-1604757600@ckdh.com
SUMMARY:First Annual Phyllis Blumel Memorial Christmas Bazaar
DESCRIPTION:The First Annual Phyllis Blumel Memorial Christmas Bazaar is  Saturday 9-2 at the Knights of Columbus Hall. Get started on your Christmas shopping\, support local crafters and small business\, and the LA Animal Shelter all in one event! There will be a great assortment of vendors and merchandise including Christmas crafts and ornaments\, and pet-themed crafts\, In addition\, gift baskets full of vendor-donated items will be raffled off\, with all proceeds going to the LA Shelter. Social distancing will be enforced and all customers and vendors are required to wear masks. \n
URL:https://ckdh.com/event/first-annual-phyllis-blumel-memorial-christmas-bazaar/
END:VEVENT
END:VCALENDAR