BEGIN:VCALENDAR
VERSION:2.0
PRODID:-//CKDH - ECPv4.6.26//NONSGML v1.0//EN
CALSCALE:GREGORIAN
METHOD:PUBLISH
X-WR-CALNAME:CKDH
X-ORIGINAL-URL:https://ckdh.com
X-WR-CALDESC:Events for CKDH
BEGIN:VEVENT
DTSTART;TZID=America/Halifax:20190814T110000
DTEND;TZID=America/Halifax:20190814T130000
DTSTAMP:20260424T131729
CREATED:20190813T143216Z
LAST-MODIFIED:20190813T143216Z
UID:6495-1565780400-1565787600@ckdh.com
SUMMARY:First Baptist BBQ
DESCRIPTION:First Baptist Church has their regular BBQ Wednesday\, from 11 –1. Enjoy hotdogs\, hamburgers\, cheeseburgers\, sausages\, veggie burgers\, pop/water. \n
URL:https://ckdh.com/event/first-baptist-bbq-2/
END:VEVENT
END:VCALENDAR