BEGIN:VCALENDAR
VERSION:2.0
PRODID:-//CKDH - ECPv4.6.26//NONSGML v1.0//EN
CALSCALE:GREGORIAN
METHOD:PUBLISH
X-WR-CALNAME:CKDH
X-ORIGINAL-URL:https://ckdh.com
X-WR-CALDESC:Events for CKDH
BEGIN:VEVENT
DTSTART;TZID=UTC+0:20170621T113000
DTEND;TZID=UTC+0:20170621T133000
DTSTAMP:20260422T110214
CREATED:20170619T173906Z
LAST-MODIFIED:20170619T174421Z
UID:1066-1498044600-1498051800@ckdh.com
SUMMARY:First Baptist Church BBQ
DESCRIPTION:The First Baptist Church BBQ’s are back. Wednesdays from 11:30-1:30 in front of the church. Enjoy lunch\, with burgers\, hot dogs\, sausages and ribs. \n  \n
URL:https://ckdh.com/event/first-baptist-church-bbq/2017-06-21/
END:VEVENT
END:VCALENDAR