BEGIN:VCALENDAR
VERSION:2.0
PRODID:-//CKDH - ECPv4.6.26//NONSGML v1.0//EN
CALSCALE:GREGORIAN
METHOD:PUBLISH
X-WR-CALNAME:CKDH
X-ORIGINAL-URL:https://ckdh.com
X-WR-CALDESC:Events for CKDH
BEGIN:VEVENT
DTSTART;TZID=America/Halifax:20190830T113000
DTEND;TZID=America/Halifax:20190830T133000
DTSTAMP:20260423T084645
CREATED:20190828T133656Z
LAST-MODIFIED:20190828T133656Z
UID:6548-1567164600-1567171800@ckdh.com
SUMMARY:First Baptist Church’s Lobster Roll Luncheon
DESCRIPTION:The Amherst First Baptist Church’s Lobster Roll Luncheon is Friday\, from 11:30 am – 1:30. Meal includes Lobster Roll on toasted bun\, Potato Salad\, Blueberry Cake with Brown Sugar Sauce\, Tea & Coffee. Eat in or take out. Delivery is available. Tickets $20.00 available at Church Office. \n
URL:https://ckdh.com/event/first-baptist-churchs-lobster-roll-luncheon/
END:VEVENT
END:VCALENDAR