BEGIN:VCALENDAR
VERSION:2.0
PRODID:-//CKDH - ECPv4.6.26//NONSGML v1.0//EN
CALSCALE:GREGORIAN
METHOD:PUBLISH
X-WR-CALNAME:CKDH
X-ORIGINAL-URL:https://ckdh.com
X-WR-CALDESC:Events for CKDH
BEGIN:VEVENT
DTSTART;TZID=America/Halifax:20190427T100000
DTEND;TZID=America/Halifax:20190427T120000
DTSTAMP:20260422T103405
CREATED:20190311T154826Z
LAST-MODIFIED:20190311T154826Z
UID:5693-1556359200-1556366400@ckdh.com
SUMMARY:Food Drive
DESCRIPTION:The Cumberland Y Service  Club\, the Amherst Y’s Menettes and community volunteers will be holding a Door to Door Food Drive\, Sat Apr 27 from 10-noon in Amherst. If you ae not going to be home\, leave your food bag on the front step. \n
URL:https://ckdh.com/event/food-drive-2/
END:VEVENT
END:VCALENDAR