BEGIN:VCALENDAR
VERSION:2.0
PRODID:-//CKDH - ECPv4.6.26//NONSGML v1.0//EN
CALSCALE:GREGORIAN
METHOD:PUBLISH
X-WR-CALNAME:CKDH
X-ORIGINAL-URL:https://ckdh.com
X-WR-CALDESC:Events for CKDH
BEGIN:VEVENT
DTSTART;TZID=America/Halifax:20191022T190000
DTEND;TZID=America/Halifax:20191022T200000
DTSTAMP:20260424T111608
CREATED:20191015T160726Z
LAST-MODIFIED:20191015T160726Z
UID:6840-1571770800-1571774400@ckdh.com
SUMMARY:Found Drown
DESCRIPTION:The Four Fathers Memorial Library will be hosting local author Laurie Glen Norris. She will be reading and discussing her latest novel Found Drown\, Tuesday Oct 22 from 7-8. \n  \n
URL:https://ckdh.com/event/found-drown/
END:VEVENT
END:VCALENDAR