BEGIN:VCALENDAR
VERSION:2.0
PRODID:-//CKDH - ECPv4.6.26//NONSGML v1.0//EN
CALSCALE:GREGORIAN
METHOD:PUBLISH
X-WR-CALNAME:CKDH
X-ORIGINAL-URL:https://ckdh.com
X-WR-CALDESC:Events for CKDH
BEGIN:VEVENT
DTSTART;TZID=America/Halifax:20181216T190000
DTEND;TZID=America/Halifax:20181216T190000
DTSTAMP:20260422T193646
CREATED:20181127T154552Z
LAST-MODIFIED:20181127T154552Z
UID:5243-1544986800-1544986800@ckdh.com
SUMMARY:Free Concert - Rachel MacLean
DESCRIPTION:The Amherst First Baptist Church is offering a Christmas gift to the community. Be their guest at a free concert with Rachel MacLean\, Sunday Dec 16 at 7\, in the sanctuary at First Baptist. \n
URL:https://ckdh.com/event/free-concert-rachel-maclean/
END:VEVENT
END:VCALENDAR