BEGIN:VCALENDAR
VERSION:2.0
PRODID:-//CKDH - ECPv4.6.26//NONSGML v1.0//EN
CALSCALE:GREGORIAN
METHOD:PUBLISH
X-WR-CALNAME:CKDH
X-ORIGINAL-URL:https://ckdh.com
X-WR-CALDESC:Events for CKDH
BEGIN:VEVENT
DTSTART;TZID=UTC+0:20170410T113000
DTEND;TZID=UTC+0:20170410T153000
DTSTAMP:20260422T143819
CREATED:20170322T184442Z
LAST-MODIFIED:20170322T184442Z
UID:406-1491823800-1491838200@ckdh.com
SUMMARY:Free Income Tax Preparation Clinic
DESCRIPTION:Maggie’s Place will be hosting another free Income Tax Preparation Clinic. Monday\, April 10th\, with appointments available from 11:30 am to 3:30 pm. Childcare Available. The Community Volunteer Income Tax Program is to assist eligible individuals (modest income and a simple tax situation)\, who are not able to prepare their income tax benefit returns by themselves. Call Maggie’s Place to book an appointment at 902-667-7250. \n
URL:https://ckdh.com/event/free-income-tax-preparation-clinic/
END:VEVENT
END:VCALENDAR