BEGIN:VCALENDAR
VERSION:2.0
PRODID:-//CKDH - ECPv4.6.26//NONSGML v1.0//EN
CALSCALE:GREGORIAN
METHOD:PUBLISH
X-WR-CALNAME:CKDH
X-ORIGINAL-URL:https://ckdh.com
X-WR-CALDESC:Events for CKDH
BEGIN:VEVENT
DTSTART;TZID=UTC+0:20170328T093000
DTEND;TZID=UTC+0:20170328T153000
DTSTAMP:20260420T001308
CREATED:20170322T172646Z
LAST-MODIFIED:20170322T172646Z
UID:404-1490693400-1490715000@ckdh.com
SUMMARY:Free Income Tax Preparation Clinics
DESCRIPTION:Maggie’s Place will be hosting two free Income Tax Preparation Clinics. Tuesday March 28th\, with appointments available from 9:30 am to 3:30 pm. And Monday\, April 10th\, with appointments available from 11:30 am to 3:30 pm. Childcare Available. The Community Volunteer Income Tax Program is to assist eligible individuals (modest income and a simple tax situation)\, who are not able to prepare their income tax benefit returns by themselves. Call Maggie’s Place to book an appointment at 902-667-7250. \n
URL:https://ckdh.com/event/free-income-tax-preparation-clinics/
END:VEVENT
END:VCALENDAR