BEGIN:VCALENDAR
VERSION:2.0
PRODID:-//CKDH - ECPv4.6.26//NONSGML v1.0//EN
CALSCALE:GREGORIAN
METHOD:PUBLISH
X-WR-CALNAME:CKDH
X-ORIGINAL-URL:https://ckdh.com
X-WR-CALDESC:Events for CKDH
BEGIN:VEVENT
DTSTART;TZID=UTC+0:20170624T200000
DTEND;TZID=UTC+0:20170624T200000
DTSTAMP:20260422T122059
CREATED:20170620T181529Z
LAST-MODIFIED:20170620T181529Z
UID:1116-1498334400-1498334400@ckdh.com
SUMMARY:Friends Helping Friends Fundraiser
DESCRIPTION:There’s a Friends Helping Friends Fundraiser for Elena Rimski and family\, completing their long journey to citizenship. It will be at Teasers Friday night from 8-1. Among the entertainers will be Naked on South Albion\, Hannah Melanson\, Kent Beattie and Corey Burbine. Admission is a donation at the door. \n
URL:https://ckdh.com/event/friends-helping-friends-fundraiser/
END:VEVENT
END:VCALENDAR