BEGIN:VCALENDAR
VERSION:2.0
PRODID:-//CKDH - ECPv4.6.26//NONSGML v1.0//EN
CALSCALE:GREGORIAN
METHOD:PUBLISH
X-WR-CALNAME:CKDH
X-ORIGINAL-URL:https://ckdh.com
X-WR-CALDESC:Events for CKDH
BEGIN:VEVENT
DTSTART;TZID=UTC+0:20170408T100000
DTEND;TZID=UTC+0:20170408T140000
DTSTAMP:20260422T143529
CREATED:20170403T184809Z
LAST-MODIFIED:20170403T185027Z
UID:521-1491645600-1491660000@ckdh.com
SUMMARY:Girl Guide Cookie Sale
DESCRIPTION:The Girl Guides Spring Cookie Sale is Sat Apr 8 in Amherst. They will be going door to door with original vanilla cookies\, and selling them at Heartz Hall at Trinity St Stephens from 10-2. \n
URL:https://ckdh.com/event/girl-guide-cookie-sale/
END:VEVENT
END:VCALENDAR