BEGIN:VCALENDAR
VERSION:2.0
PRODID:-//CKDH - ECPv4.6.26//NONSGML v1.0//EN
CALSCALE:GREGORIAN
METHOD:PUBLISH
X-WR-CALNAME:CKDH
X-ORIGINAL-URL:https://ckdh.com
X-WR-CALDESC:Events for CKDH
BEGIN:VEVENT
DTSTART;TZID=America/Halifax:20191005T100000
DTEND;TZID=America/Halifax:20191005T140000
DTSTAMP:20260420T173828
CREATED:20191004T112903Z
LAST-MODIFIED:20191004T112903Z
UID:6774-1570269600-1570284000@ckdh.com
SUMMARY:Girl Guide Cookies
DESCRIPTION:The Amherst Girl Guides will be selling chocolate and mint girl guide cookies door-to-door Saturday between 10am and 2 pm. Cookies are $5 a box. \n
URL:https://ckdh.com/event/girl-guide-cookies/
END:VEVENT
END:VCALENDAR