BEGIN:VCALENDAR
VERSION:2.0
PRODID:-//CKDH - ECPv4.6.26//NONSGML v1.0//EN
CALSCALE:GREGORIAN
METHOD:PUBLISH
X-WR-CALNAME:CKDH
X-ORIGINAL-URL:https://ckdh.com
X-WR-CALDESC:Events for CKDH
BEGIN:VEVENT
DTSTART;TZID=America/Halifax:20191018T190000
DTEND;TZID=America/Halifax:20191018T230000
DTSTAMP:20260422T014402
CREATED:20190924T135018Z
LAST-MODIFIED:20190924T135018Z
UID:6696-1571425200-1571439600@ckdh.com
SUMMARY:Glow Bingo - AFD
DESCRIPTION:Glow Bingo is back at the Amherst Fire Department Friday Oct 18 from 7-11.The Halloween Edition will feature a live DJ\, Glow Bingo and a cash bar. Tickets go on sale Oct 14th. \n
URL:https://ckdh.com/event/glow-bingo-afd/
END:VEVENT
END:VCALENDAR