BEGIN:VCALENDAR
VERSION:2.0
PRODID:-//CKDH - ECPv4.6.26//NONSGML v1.0//EN
CALSCALE:GREGORIAN
METHOD:PUBLISH
X-WR-CALNAME:CKDH
X-ORIGINAL-URL:https://ckdh.com
X-WR-CALDESC:Events for CKDH
BEGIN:VEVENT
DTSTART;TZID=America/Halifax:20190601T100000
DTEND;TZID=America/Halifax:20190601T150000
DTSTAMP:20260421T101007
CREATED:20190514T082106Z
LAST-MODIFIED:20190514T082106Z
UID:6047-1559383200-1559401200@ckdh.com
SUMMARY:Gluten Free Fair
DESCRIPTION:They are holding a Gluten Free Fair Saturday June 1 at the Coverdale Recreation Center in Riverview NB from 10-3. There will be a wide variety of vendors\, free samples and a food truck with burgers and fries. The admission is $3 and children 12 and under get in free. For more information call 506-536-1867. \n
URL:https://ckdh.com/event/gluten-free-fair-3/
END:VEVENT
END:VCALENDAR