BEGIN:VCALENDAR
VERSION:2.0
PRODID:-//CKDH - ECPv4.6.26//NONSGML v1.0//EN
CALSCALE:GREGORIAN
METHOD:PUBLISH
X-WR-CALNAME:CKDH
X-ORIGINAL-URL:https://ckdh.com
X-WR-CALDESC:Events for CKDH
BEGIN:VEVENT
DTSTART;TZID=America/Halifax:20171218T210000
DTEND;TZID=America/Halifax:20171218T210000
DTSTAMP:20260424T173900
CREATED:20171212T142247Z
LAST-MODIFIED:20171212T142247Z
UID:1936-1513630800-1513630800@ckdh.com
SUMMARY:Goaltending Sessions for Minor hockey players.
DESCRIPTION:Carly Jackson\, former Cumberland County Minor Hockey Association player and now a goalie for the University of Maine  Women’s Hockey team\, will be running two Goal Tending Sessions for Minor hockey players. Monday December 18th 9:00pm-10:00pm for Peewee age and above and Saturday December 23rd 7:15am-8:15am for atom aged goalies and below. Both sessions are completely free and will be held at the Amherst Stadium. Email carlyjackson77@gmail.com if you are interested\, or message Carly on facebook. \n  \n
URL:https://ckdh.com/event/goaltending-sessions-for-minor-hockey-players/
END:VEVENT
END:VCALENDAR