BEGIN:VCALENDAR
VERSION:2.0
PRODID:-//CKDH - ECPv4.6.26//NONSGML v1.0//EN
CALSCALE:GREGORIAN
METHOD:PUBLISH
X-WR-CALNAME:CKDH
X-ORIGINAL-URL:https://ckdh.com
X-WR-CALDESC:Events for CKDH
BEGIN:VEVENT
DTSTART;TZID=America/Halifax:20191102T183000
DTEND;TZID=America/Halifax:20191102T183000
DTSTAMP:20260423T110731
CREATED:20191002T160628Z
LAST-MODIFIED:20191002T160628Z
UID:6745-1572719400-1572719400@ckdh.com
SUMMARY:Gospel Benefit Concert
DESCRIPTION:There’s a Gospel Benefit Concert for All Saints Anglican Church\, Saturday Nov 2. It starts at 6:30 at the All Saints Parish Hall and will feature the music of the Patriquin Family Singers. There will be a silent auction\, and they would appreciate a donation during intermission. \n
URL:https://ckdh.com/event/gospel-benefit-concert/
END:VEVENT
END:VCALENDAR