BEGIN:VCALENDAR
VERSION:2.0
PRODID:-//CKDH - ECPv4.6.26//NONSGML v1.0//EN
CALSCALE:GREGORIAN
METHOD:PUBLISH
X-WR-CALNAME:CKDH
X-ORIGINAL-URL:https://ckdh.com
X-WR-CALDESC:Events for CKDH
BEGIN:VEVENT
DTSTART;TZID=UTC+0:20170609T160000
DTEND;TZID=UTC+0:20170609T200000
DTSTAMP:20260420T175937
CREATED:20170605T164545Z
LAST-MODIFIED:20170605T175934Z
UID:990-1497024000-1497038400@ckdh.com
SUMMARY:Grand Opening of the Springhill BMX Park
DESCRIPTION:The Springhill BMX Park is open but under development. The beginner track and mountain bike track can be used now. Future development plans include two speed tracks and a larger BMX track. There are also plans to establish a BMX Club. The Grand opening of the Springhill BMX Park is Friday from 4-6.The Trail Flow Porta park will be there from 6-8. There will be music and a free BBQ. \n
URL:https://ckdh.com/event/grand-opening-of-the-springhill-bmx-park/
END:VEVENT
END:VCALENDAR