BEGIN:VCALENDAR
VERSION:2.0
PRODID:-//CKDH - ECPv4.6.26//NONSGML v1.0//EN
CALSCALE:GREGORIAN
METHOD:PUBLISH
X-WR-CALNAME:CKDH
X-ORIGINAL-URL:https://ckdh.com
X-WR-CALDESC:Events for CKDH
BEGIN:VEVENT
DTSTART;VALUE=DATE:20170125
DTEND;VALUE=DATE:20170126
DTSTAMP:20260424T153431
CREATED:20170215T235301Z
LAST-MODIFIED:20170215T235301Z
UID:118-1485302400-1485388799@ckdh.com
SUMMARY:Great Amherst Mystery Meeting (General Public)
DESCRIPTION:On behalf of the Town of Amherst Charlie Rhindress will host a second public meeting to discuss ways in which the town might capitalize on its past as the home of The Great Amherst Mystery. The meeting will take place on Wednesday\, January 25th at the Community Credit Union Business Innovation Centre on Ratchford St.\, from 7-9 p.m. Anyone who is interested in being involved with the Festival\, would like to share their ideas about how Amherst might take advantage of its storied past\, or just wants to hear more about this famous tale\, is welcome to attend. \n
URL:https://ckdh.com/event/great-amherst-mystery-meeting-general-public/
END:VEVENT
END:VCALENDAR