BEGIN:VCALENDAR
VERSION:2.0
PRODID:-//CKDH - ECPv4.6.26//NONSGML v1.0//EN
CALSCALE:GREGORIAN
METHOD:PUBLISH
X-WR-CALNAME:CKDH
X-ORIGINAL-URL:https://ckdh.com
X-WR-CALDESC:Events for CKDH
BEGIN:VEVENT
DTSTART;TZID=America/Halifax:20181020T100000
DTEND;TZID=America/Halifax:20181020T130000
DTSTAMP:20260424T111904
CREATED:20180924T151556Z
LAST-MODIFIED:20180924T151556Z
UID:4951-1540029600-1540040400@ckdh.com
SUMMARY:Guides Coffee Morning
DESCRIPTION:The Girl Guides are hosting a Camp Coffee Morning\, Sat Oct 20 from 10-1 at Heartz Hall at Trinity St Stephens. There will coffee\, tea and muffins plus vendors and crafters. The cost is $4 per person or $10 for groups of 3 or more. Proceeds to the Guides last area camp\, Camp Cumberland. \n
URL:https://ckdh.com/event/guides-coffee-morning/
END:VEVENT
END:VCALENDAR