BEGIN:VCALENDAR
VERSION:2.0
PRODID:-//CKDH - ECPv4.6.26//NONSGML v1.0//EN
CALSCALE:GREGORIAN
METHOD:PUBLISH
X-WR-CALNAME:CKDH
X-ORIGINAL-URL:https://ckdh.com
X-WR-CALDESC:Events for CKDH
BEGIN:VEVENT
DTSTART;TZID=UTC+0:20171028T200000
DTEND;TZID=UTC+0:20171028T200000
DTSTAMP:20260423T091630
CREATED:20171018T185750Z
LAST-MODIFIED:20171018T185750Z
UID:1633-1509220800-1509220800@ckdh.com
SUMMARY:Halloween Spooktacular Costume Dance
DESCRIPTION:The Amherst Cheer Parents Association is holding a Halloween Spooktacular Costume Dance at the Amherst Fire Hall\, Sat Oct 28 from 8-1. The dance will feature Naked On South Albion. There will be a best costume contest\, a 50/50 draw and silent auction. There will be free shuttle service within town limits. Tickets are $15 or 2 for $25. For tickets contact Shawn Chapman or Jodi Henry on facebook. \n
URL:https://ckdh.com/event/halloween-spooktacular-costume-dance/
END:VEVENT
END:VCALENDAR