BEGIN:VCALENDAR
VERSION:2.0
PRODID:-//CKDH - ECPv4.6.26//NONSGML v1.0//EN
CALSCALE:GREGORIAN
METHOD:PUBLISH
X-WR-CALNAME:CKDH
X-ORIGINAL-URL:https://ckdh.com
X-WR-CALDESC:Events for CKDH
BEGIN:VEVENT
DTSTART;TZID=America/Halifax:20190704T150000
DTEND;TZID=America/Halifax:20190704T160000
DTSTAMP:20260423T110552
CREATED:20190626T135120Z
LAST-MODIFIED:20190626T135120Z
UID:6263-1562252400-1562256000@ckdh.com
SUMMARY:Harry Potter Party
DESCRIPTION:The Springhill Library is holding a Harry Potter Party\, Thursday July 4 from 3-4. The event is for grades P-6. Call 902-597-2211 for more \n
URL:https://ckdh.com/event/harry-potter-party/
END:VEVENT
END:VCALENDAR