BEGIN:VCALENDAR
VERSION:2.0
PRODID:-//CKDH - ECPv4.6.26//NONSGML v1.0//EN
CALSCALE:GREGORIAN
METHOD:PUBLISH
X-WR-CALNAME:CKDH
X-ORIGINAL-URL:https://ckdh.com
X-WR-CALDESC:Events for CKDH
BEGIN:VEVENT
DTSTART;TZID=America/Halifax:20191019T120000
DTEND;TZID=America/Halifax:20191019T160000
DTSTAMP:20260422T121530
CREATED:20190924T155016Z
LAST-MODIFIED:20190924T155016Z
UID:6705-1571486400-1571500800@ckdh.com
SUMMARY:HeartWalk
DESCRIPTION:The Braveheart Support Society is hosting HeartWalk\, Saturday Oct 19\, at Dickey Park\, to help raise awareness of Congenital Heart Disease. Registration is at noon. The 5K walk starts at 1\, the 3K at 1:30. Bring the kids. There will be face painting and balloon art\, and there will be food to purchase. \n
URL:https://ckdh.com/event/heartwalk/
END:VEVENT
END:VCALENDAR