BEGIN:VCALENDAR
VERSION:2.0
PRODID:-//CKDH - ECPv4.6.26//NONSGML v1.0//EN
CALSCALE:GREGORIAN
METHOD:PUBLISH
X-WR-CALNAME:CKDH
X-ORIGINAL-URL:https://ckdh.com
X-WR-CALDESC:Events for CKDH
BEGIN:VEVENT
DTSTART;TZID=America/Halifax:20171216T100000
DTEND;TZID=America/Halifax:20171216T120000
DTSTAMP:20260424T173513
CREATED:20171212T134838Z
LAST-MODIFIED:20171212T134838Z
UID:1926-1513418400-1513425600@ckdh.com
SUMMARY:Holiday Fun Day
DESCRIPTION:Maggie’s Place is having a Holiday Fun Day\, Saturday from 10-noon at the Knights of Columbus Hall. There will be art\, music\, face painting and more. And they are also expecting a visit from a special guest. All children must be accompanied by an adult. And as with all Maggie’s Place programs this one is free. \n  \n
URL:https://ckdh.com/event/holiday-fun-day/
END:VEVENT
END:VCALENDAR