BEGIN:VCALENDAR
VERSION:2.0
PRODID:-//CKDH - ECPv4.6.26//NONSGML v1.0//EN
CALSCALE:GREGORIAN
METHOD:PUBLISH
X-WR-CALNAME:CKDH
X-ORIGINAL-URL:https://ckdh.com
X-WR-CALDESC:Events for CKDH
BEGIN:VEVENT
DTSTART;TZID=America/Halifax:20180930T160000
DTEND;TZID=America/Halifax:20180930T180000
DTSTAMP:20260419T211330
CREATED:20180831T133215Z
LAST-MODIFIED:20180831T133215Z
UID:4883-1538323200-1538330400@ckdh.com
SUMMARY:Holy Family Parish Fall Fair Annual Turkey Dinner
DESCRIPTION:The Holy Family Parish Fall Fair Annual Turkey Dinner is Sunday Sept 30 from 4-6\, at the Holy family Parish Hall. There will be deliveries to seniors only. (Saturday til noon and on Sunday call 902-667-7400) \n
URL:https://ckdh.com/event/holy-family-parish-fall-fair-annual-turkey-dinner/
END:VEVENT
END:VCALENDAR