BEGIN:VCALENDAR
VERSION:2.0
PRODID:-//CKDH - ECPv4.6.26//NONSGML v1.0//EN
CALSCALE:GREGORIAN
METHOD:PUBLISH
X-WR-CALNAME:CKDH
X-ORIGINAL-URL:https://ckdh.com
X-WR-CALDESC:Events for CKDH
BEGIN:VEVENT
DTSTART;TZID=America/Halifax:20190809T130000
DTEND;TZID=America/Halifax:20190809T190000
DTSTAMP:20260423T110412
CREATED:20190806T154005Z
LAST-MODIFIED:20190806T154005Z
UID:6450-1565355600-1565377200@ckdh.com
SUMMARY:Honk Jr.
DESCRIPTION:Showcase Production’s Summer Theatre Troupe is presenting Honk Junior\, two performances Friday at 1 and 6\, at the Anglican Church Hall. Admission is by donation\, with proceeds to students in Cumberland County. \n
URL:https://ckdh.com/event/honk-jr/
END:VEVENT
END:VCALENDAR