BEGIN:VCALENDAR
VERSION:2.0
PRODID:-//CKDH - ECPv4.6.26//NONSGML v1.0//EN
CALSCALE:GREGORIAN
METHOD:PUBLISH
X-WR-CALNAME:CKDH
X-ORIGINAL-URL:https://ckdh.com
X-WR-CALDESC:Events for CKDH
BEGIN:VEVENT
DTSTART;TZID=UTC+0:20170715T110000
DTEND;TZID=UTC+0:20170715T140000
DTSTAMP:20260421T131508
CREATED:20170626T182558Z
LAST-MODIFIED:20170626T182558Z
UID:1146-1500116400-1500127200@ckdh.com
SUMMARY:Hospice BBQ
DESCRIPTION:The Community Credit Union is holding a Fundraising BBQ at the Amherst branch\, Friday July 15 from 11-2. All proceeds to Cumberland County Hospice. \n
URL:https://ckdh.com/event/hospice-bbq/
END:VEVENT
END:VCALENDAR