BEGIN:VCALENDAR
VERSION:2.0
PRODID:-//CKDH - ECPv4.6.26//NONSGML v1.0//EN
CALSCALE:GREGORIAN
METHOD:PUBLISH
X-WR-CALNAME:CKDH
X-ORIGINAL-URL:https://ckdh.com
X-WR-CALDESC:Events for CKDH
BEGIN:VEVENT
DTSTART;TZID=America/Halifax:20200326T120000
DTEND;TZID=America/Halifax:20200326T120000
DTSTAMP:20260420T141305
CREATED:20200310T152148Z
LAST-MODIFIED:20200310T152148Z
UID:7634-1585224000-1585224000@ckdh.com
SUMMARY:Hymn Sing Lunch
DESCRIPTION:There will be a Hymn Sing Lunch\, with corn chowder\, Thursday March 26 at noon at the Springhill Baptist Church. Admission is a donation to cover the cost of the event and to add to the stove fundraiser. \n
URL:https://ckdh.com/event/hymn-sing-lunch/
END:VEVENT
END:VCALENDAR