BEGIN:VCALENDAR
VERSION:2.0
PRODID:-//CKDH - ECPv4.6.26//NONSGML v1.0//EN
CALSCALE:GREGORIAN
METHOD:PUBLISH
X-WR-CALNAME:CKDH
X-ORIGINAL-URL:https://ckdh.com
X-WR-CALDESC:Events for CKDH
BEGIN:VEVENT
DTSTART;TZID=UTC+0:20170420T150000
DTEND;TZID=UTC+0:20170420T160000
DTSTAMP:20260421T140511
CREATED:20170403T184055Z
LAST-MODIFIED:20170403T184055Z
UID:513-1492700400-1492704000@ckdh.com
SUMMARY:Incredible Insects
DESCRIPTION:The Springhill Library has Incredible Insects Thur Apr 20 from 3-4. Create a caterpillar that transforms into a butterfly and test your acting skills with insect action cards. Children under 9 must be accompanied by an adult. For more information\, call 902-597-2211. \n
URL:https://ckdh.com/event/incredible-insects/
END:VEVENT
END:VCALENDAR