BEGIN:VCALENDAR
VERSION:2.0
PRODID:-//CKDH - ECPv4.6.26//NONSGML v1.0//EN
CALSCALE:GREGORIAN
METHOD:PUBLISH
X-WR-CALNAME:CKDH
X-ORIGINAL-URL:https://ckdh.com
X-WR-CALDESC:Events for CKDH
BEGIN:VEVENT
DTSTART;TZID=America/Halifax:20190508T160000
DTEND;TZID=America/Halifax:20190508T180000
DTSTAMP:20260422T103410
CREATED:20190320T133536Z
LAST-MODIFIED:20190320T133536Z
UID:5759-1557331200-1557338400@ckdh.com
SUMMARY:Information and Networking Session
DESCRIPTION:If you are interested in starting your own business\, are you a business owner or operator looking for workers\, or are you a person\, student or business interested in programs that might be able to provide business resources? There are information and networking sessions coming up throughout Cumberland County. There is a session in Joggins Wed May 8\,  4-6 at the Joggins Fossil Center \nThe sessions are hosted by the Community Business Development Corporation\, Cumberland Business Connector\, Nova Scotia Works/CANSA and NSCC Cumberland. \n
URL:https://ckdh.com/event/information-and-networking-session-4/
END:VEVENT
END:VCALENDAR