BEGIN:VCALENDAR
VERSION:2.0
PRODID:-//CKDH - ECPv4.6.26//NONSGML v1.0//EN
CALSCALE:GREGORIAN
METHOD:PUBLISH
X-WR-CALNAME:CKDH
X-ORIGINAL-URL:https://ckdh.com
X-WR-CALDESC:Events for CKDH
BEGIN:VEVENT
DTSTART;TZID=America/Halifax:20190515T160000
DTEND;TZID=America/Halifax:20190515T180000
DTSTAMP:20260422T160111
CREATED:20190320T133730Z
LAST-MODIFIED:20190320T133730Z
UID:5761-1557936000-1557943200@ckdh.com
SUMMARY:Information and Networking Session - Joggins
DESCRIPTION:If you are interested in starting your own business\, are you a business owner or operator looking for workers\, or are you a person\, student or business interested in programs that might be able to provide business resources? There are 2 more  information and networking sessions coming up in Cumberland County. There is a session in Wentworth Wed May 15  4-6 at the Wentworth learning Center \nThe sessions are hosted by the Community Business Development Corporation\, Cumberland Business Connector\, Nova Scotia Works/CANSA and NSCC Cumberland. \n
URL:https://ckdh.com/event/information-and-networking-session-joggins/
END:VEVENT
END:VCALENDAR