BEGIN:VCALENDAR
VERSION:2.0
PRODID:-//CKDH - ECPv4.6.26//NONSGML v1.0//EN
CALSCALE:GREGORIAN
METHOD:PUBLISH
X-WR-CALNAME:CKDH
X-ORIGINAL-URL:https://ckdh.com
X-WR-CALDESC:Events for CKDH
BEGIN:VEVENT
DTSTART;TZID=UTC+0:20170327T180000
DTEND;TZID=UTC+0:20170327T180000
DTSTAMP:20260419T223608
CREATED:20170307T185127Z
LAST-MODIFIED:20170307T185127Z
UID:332-1490637600-1490637600@ckdh.com
SUMMARY:International Cooking Class-Taste of India
DESCRIPTION:Join Cumberland YREACH for a free International Cooking Class\, Mon Mar 27 from 6-8 at Maggie’s Place. This time it’s a taste of India with Kitty Kasib. Space is limited to 15 participants\, so call Brent Noiles at 902-667-9112 or email brent_noiles@ymca.ca if you want to attend. \n
URL:https://ckdh.com/event/international-cooking-class-taste-of-india/
END:VEVENT
END:VCALENDAR