BEGIN:VCALENDAR
VERSION:2.0
PRODID:-//CKDH - ECPv4.6.26//NONSGML v1.0//EN
CALSCALE:GREGORIAN
METHOD:PUBLISH
X-WR-CALNAME:CKDH
X-ORIGINAL-URL:https://ckdh.com
X-WR-CALDESC:Events for CKDH
BEGIN:VEVENT
DTSTART;TZID=America/Halifax:20180831T120000
DTEND;TZID=America/Halifax:20180831T130000
DTSTAMP:20260421T101648
CREATED:20180829T130828Z
LAST-MODIFIED:20180829T130828Z
UID:4843-1535716800-1535720400@ckdh.com
SUMMARY:International Overdose Awareness Day
DESCRIPTION:International Overdose Awareness Day is Friday. Time to Remember. Time to Act. Find out more\, at an event in Victoria Square in downtown Amherst from noon-1. There will be a First Voice Presentation\, talk to Community Resource professionals and take a look at the Overdose Prevention Kit display. The event is sponsored by Cumberland Opioid Council and Northern Healthy Connections Society. \n  \n
URL:https://ckdh.com/event/international-overdose-awareness-day/
END:VEVENT
END:VCALENDAR