BEGIN:VCALENDAR
VERSION:2.0
PRODID:-//CKDH - ECPv4.6.26//NONSGML v1.0//EN
CALSCALE:GREGORIAN
METHOD:PUBLISH
X-WR-CALNAME:CKDH
X-ORIGINAL-URL:https://ckdh.com
X-WR-CALDESC:Events for CKDH
BEGIN:VEVENT
DTSTART;TZID=America/Halifax:20190209T110000
DTEND;TZID=America/Halifax:20190209T150000
DTSTAMP:20260422T121531
CREATED:20190205T164209Z
LAST-MODIFIED:20190205T164209Z
UID:5553-1549710000-1549724400@ckdh.com
SUMMARY:Jam Session
DESCRIPTION:The Amherst Artisan Gallery Market and Café are having a Jam Session at the Amherst Center. Join Michelle LeBlanc Saturday from 11-2 and Ray Legere and Frank Doody with some bluegrass from 1-3. All donations support your local artisan community. \n
URL:https://ckdh.com/event/jam-session/
END:VEVENT
END:VCALENDAR