BEGIN:VCALENDAR
VERSION:2.0
PRODID:-//CKDH - ECPv4.6.26//NONSGML v1.0//EN
CALSCALE:GREGORIAN
METHOD:PUBLISH
X-WR-CALNAME:CKDH
X-ORIGINAL-URL:https://ckdh.com
X-WR-CALDESC:Events for CKDH
BEGIN:VEVENT
DTSTART;VALUE=DATE:20180905
DTEND;VALUE=DATE:20180906
DTSTAMP:20260421T100935
CREATED:20180904T132505Z
LAST-MODIFIED:20180904T132505Z
UID:4903-1536105600-1536191999@ckdh.com
SUMMARY:JC’s TaeKwon-Do Fund Raiser
DESCRIPTION:JC’s TaeKwon-Do competition team is having a bottle drive to raise funds to go to the National Championship in Calgary. 15 team members are going\, including two members of the team who are trying to make team Canada. They will gladly pick up any empty bottles and cans that you have\, until Sept 15. From Sept 15 til Oct2 find them on facebook\, for the Kickin’ It To Calgary Online Auction. Bid and bid often. \n
URL:https://ckdh.com/event/jcs-taekwon-do-fund-raiser/
END:VEVENT
END:VCALENDAR