BEGIN:VCALENDAR
VERSION:2.0
PRODID:-//CKDH - ECPv4.6.26//NONSGML v1.0//EN
CALSCALE:GREGORIAN
METHOD:PUBLISH
X-WR-CALNAME:CKDH
X-ORIGINAL-URL:https://ckdh.com
X-WR-CALDESC:Events for CKDH
BEGIN:VEVENT
DTSTART;TZID=America/Halifax:20180707T090000
DTEND;TZID=America/Halifax:20180707T180000
DTSTAMP:20260422T110307
CREATED:20180620T124520Z
LAST-MODIFIED:20180620T124520Z
UID:2149-1530954000-1530986400@ckdh.com
SUMMARY:Joggins Fossil Center 10th Anniversary
DESCRIPTION:The Joggins Fossil Center will be celebrating it’s 10 Anniversary  Saturday July 7. The events begins with a blessing of the cliffs by Mi’kmaq elders at 9. From 10-4 there will be a local vendors marketplace\, fossils displays\, tours\, information tables\, children’s activities and a BBQ by the 1442 River Hebert District School Army cadets. At 6 the Anniversary Reception\, celebrating the 10 anniversary as a UNESCO World Heritage Designation. If you are interested in a Behind the Scenes Collection tour email info@jogginsfossilcliffs.net in advance to register. If you want to go to the evening reception RSVP the center by June 29 at 902-251-2727 \n  \n
URL:https://ckdh.com/event/joggins-fossil-center-10th-anniversary/
END:VEVENT
END:VCALENDAR