BEGIN:VCALENDAR
VERSION:2.0
PRODID:-//CKDH - ECPv4.6.26//NONSGML v1.0//EN
CALSCALE:GREGORIAN
METHOD:PUBLISH
X-WR-CALNAME:CKDH
X-ORIGINAL-URL:https://ckdh.com
X-WR-CALDESC:Events for CKDH
BEGIN:VEVENT
DTSTART;TZID=UTC+0:20171119T110000
DTEND;TZID=UTC+0:20171119T140000
DTSTAMP:20260423T130117
CREATED:20171114T192248Z
LAST-MODIFIED:20171114T192248Z
UID:1792-1511089200-1511100000@ckdh.com
SUMMARY:Joggins Fossil Center will hold its Annual Christmas Sale
DESCRIPTION:The Joggins Fossil Center will hold its Annual Christmas Sale\, Sunday from 11-2. There will be discounts on merchandise. They will be serving Christmas cookies and tea or coffee. If you would like to sell your crafts or baking during the sale\, tables are free. For more information call Laurie at 902-251-2727. \n
URL:https://ckdh.com/event/joggins-fossil-center-will-hold-its-annual-christmas-sale/
END:VEVENT
END:VCALENDAR