BEGIN:VCALENDAR
VERSION:2.0
PRODID:-//CKDH - ECPv4.6.26//NONSGML v1.0//EN
CALSCALE:GREGORIAN
METHOD:PUBLISH
X-WR-CALNAME:CKDH
X-ORIGINAL-URL:https://ckdh.com
X-WR-CALDESC:Events for CKDH
BEGIN:VEVENT
DTSTART;TZID=America/Halifax:20190319T100000
DTEND;TZID=America/Halifax:20190321T143000
DTSTAMP:20260422T104021
CREATED:20190311T154646Z
LAST-MODIFIED:20190311T154646Z
UID:5689-1552989600-1553178600@ckdh.com
SUMMARY:Joggins Fossil Institute’s March Break Children’s Camps
DESCRIPTION:The Joggins Fossil Institute’s\, March Break Children’s Camps are running next Tuesday through Thursday from 10-2:30. The camps are for ages 5-12. Admission is $5 and participants are asked to bring their own lunches and snacks. Pre-registration is required so call 902-251-2727 or email education@jogginsfossilcliffs.net \n
URL:https://ckdh.com/event/joggins-fossil-institutes-march-break-childrens-camps/
END:VEVENT
END:VCALENDAR