BEGIN:VCALENDAR
VERSION:2.0
PRODID:-//CKDH - ECPv4.6.26//NONSGML v1.0//EN
CALSCALE:GREGORIAN
METHOD:PUBLISH
X-WR-CALNAME:CKDH
X-ORIGINAL-URL:https://ckdh.com
X-WR-CALDESC:Events for CKDH
BEGIN:VEVENT
DTSTART;TZID=America/Halifax:20180930T140000
DTEND;TZID=America/Halifax:20180930T160000
DTSTAMP:20260422T111244
CREATED:20180924T150059Z
LAST-MODIFIED:20180924T150059Z
UID:4937-1538316000-1538323200@ckdh.com
SUMMARY:Kickin’ It on the Catwalk
DESCRIPTION:There’s a fashion show and dessert afternoon\, “Kickin’ It on the Catwalk”\, Sunday  from 2-4 at the Amherst Lion’s Den. Fashions will be from the Copper Tree Boutique\, 3 Arrows Clothing\, Jayset\, Sharon’s Closet and San Lillies Bridal Boutique. Tickets are $10 and available from students of JC’s Tae Kwon Do or at the door. Proceeds will support JC’s Tae Kwon-Do Competitive Team’s trip to Calgary\, and the Lady Tweedsmuir Club. For more information call 902-667-5425. \n
URL:https://ckdh.com/event/kickin-it-on-the-catwalk/
END:VEVENT
END:VCALENDAR