BEGIN:VCALENDAR
VERSION:2.0
PRODID:-//CKDH - ECPv4.6.26//NONSGML v1.0//EN
CALSCALE:GREGORIAN
METHOD:PUBLISH
X-WR-CALNAME:CKDH
X-ORIGINAL-URL:https://ckdh.com
X-WR-CALDESC:Events for CKDH
BEGIN:VEVENT
DTSTART;TZID=America/Halifax:20190808T130000
DTEND;TZID=America/Halifax:20190808T160000
DTSTAMP:20260421T103231
CREATED:20190806T154216Z
LAST-MODIFIED:20190806T154216Z
UID:6454-1565269200-1565280000@ckdh.com
SUMMARY:Kids Bike Safety Rodeo
DESCRIPTION:The Union of Safety and Justice Employees\, the Cumberland District RCMP and the Municipality of Cumberland are hosting a Kids Bike Safety Rodeo\, in the parking lot of the Dr Carson and Marion Murray Community Center Thursday from 1-3\, rain or shine. The event is free and children must wear their helmets. There will be prizes too. \n
URL:https://ckdh.com/event/kids-bike-safety-rodeo/
END:VEVENT
END:VCALENDAR