BEGIN:VCALENDAR
VERSION:2.0
PRODID:-//CKDH - ECPv4.6.26//NONSGML v1.0//EN
CALSCALE:GREGORIAN
METHOD:PUBLISH
X-WR-CALNAME:CKDH
X-ORIGINAL-URL:https://ckdh.com
X-WR-CALDESC:Events for CKDH
BEGIN:VEVENT
DTSTART;VALUE=DATE:20190411
DTEND;VALUE=DATE:20190412
DTSTAMP:20260421T051606
CREATED:20190403T133412Z
LAST-MODIFIED:20190411T082717Z
UID:5847-1554940800-1555027199@ckdh.com
SUMMARY:Kim Wry Memorial Bursary
DESCRIPTION:The Amherst Zonta Club is accepting applications  for the Kim Wry Memorial Bursary. It’s $1000 and intended for a woman who qualifies as a mature student and is enrolled in a post-secondary program. Application forms are available at the Amherst Post Office or at NSCC Amherst or Springhill. Proof of registration with a recognized institution must be included with your application. Last date to apply is May 31st. \n
URL:https://ckdh.com/event/kim-wry-memorial-bursary-4/
END:VEVENT
END:VCALENDAR