BEGIN:VCALENDAR
VERSION:2.0
PRODID:-//CKDH - ECPv4.6.26//NONSGML v1.0//EN
CALSCALE:GREGORIAN
METHOD:PUBLISH
X-WR-CALNAME:CKDH
X-ORIGINAL-URL:https://ckdh.com
X-WR-CALDESC:Events for CKDH
BEGIN:VEVENT
DTSTART;TZID=America/Halifax:20181104T150000
DTEND;TZID=America/Halifax:20181104T150000
DTSTAMP:20260419T225238
CREATED:20181011T154244Z
LAST-MODIFIED:20181011T154244Z
UID:5015-1541343600-1541343600@ckdh.com
SUMMARY:Laura Smith in Concert
DESCRIPTION:Leeward Atlantic presents Laura Smith in concert with Kim Dunn\, Sun Nov 4 at 3 at the Wallace Community Center. Tickets are $25 at Wallace Ultramar or Whirligigs Café or online at leewardatlantic.com \n
URL:https://ckdh.com/event/laura-smith-in-concert/
END:VEVENT
END:VCALENDAR