BEGIN:VCALENDAR
VERSION:2.0
PRODID:-//CKDH - ECPv4.6.26//NONSGML v1.0//EN
CALSCALE:GREGORIAN
METHOD:PUBLISH
X-WR-CALNAME:CKDH
X-ORIGINAL-URL:https://ckdh.com
X-WR-CALDESC:Events for CKDH
BEGIN:VEVENT
DTSTART;TZID=UTC+0:20170422T140000
DTEND;TZID=UTC+0:20170422T140000
DTSTAMP:20260421T023840
CREATED:20170411T184945Z
LAST-MODIFIED:20170411T184945Z
UID:668-1492869600-1492869600@ckdh.com
SUMMARY:Laurell Hamilton: Explorations in Acrylic
DESCRIPTION:The Joggins Fossil Institute is pleased to invite you to the opening reception of the exhibition Laurell Hamilton: Explorations in Acrylic on Sat Apr 22 at 2 at the Joggins Fossil Centre. Laurell is a resident of Lower Cove\, and her exhibit is on til May 22.  The reception is part of the opening day activities at the Joggins Fossil Centre which opens on Apr 22 – Earth Day – at 10 for the 2017 season. \n
URL:https://ckdh.com/event/laurell-hamilton-explorations-in-acrylic/
END:VEVENT
END:VCALENDAR