BEGIN:VCALENDAR
VERSION:2.0
PRODID:-//CKDH - ECPv4.6.26//NONSGML v1.0//EN
CALSCALE:GREGORIAN
METHOD:PUBLISH
X-WR-CALNAME:CKDH
X-ORIGINAL-URL:https://ckdh.com
X-WR-CALDESC:Events for CKDH
BEGIN:VEVENT
DTSTART;VALUE=DATE:20190111
DTEND;VALUE=DATE:20190112
DTSTAMP:20260422T143151
CREATED:20190109T161726Z
LAST-MODIFIED:20190109T161726Z
UID:5446-1547164800-1547251199@ckdh.com
SUMMARY:Library Device Technical Support
DESCRIPTION:Do you have a device that you have questions about? Cumberland Public Libraries has hired a communications technician\, to work with staff to help you. Contact your local library to find out when he will be there and book an appointment. \n
URL:https://ckdh.com/event/library-device-technical-support/
END:VEVENT
END:VCALENDAR