BEGIN:VCALENDAR
VERSION:2.0
PRODID:-//CKDH - ECPv4.6.26//NONSGML v1.0//EN
CALSCALE:GREGORIAN
METHOD:PUBLISH
X-WR-CALNAME:CKDH
X-ORIGINAL-URL:https://ckdh.com
X-WR-CALDESC:Events for CKDH
BEGIN:VEVENT
DTSTART;TZID=UTC+0:20170620T160000
DTEND;TZID=UTC+0:20170620T180000
DTSTAMP:20260420T222225
CREATED:20170524T192429Z
LAST-MODIFIED:20170524T192429Z
UID:922-1497974400-1497981600@ckdh.com
SUMMARY:Library Fundraiser-Lesley Crewe
DESCRIPTION:Cumberland Public Libraries is holding a Fundraiser\, a Tea with Maritime author\, Lesley Crewe\, whose books include Relative Happiness. It is Tuesday June 20 from 4-6 at the Four Fathers Memorial Library. Tickets are $50\, but only 25 are available. To buy yours\, call Denise at 902-667-2135 or email information@cumberlandpubliclibraries.ca \n
URL:https://ckdh.com/event/library-fundraiser-lesley-crewe/
END:VEVENT
END:VCALENDAR