BEGIN:VCALENDAR
VERSION:2.0
PRODID:-//CKDH - ECPv4.6.26//NONSGML v1.0//EN
CALSCALE:GREGORIAN
METHOD:PUBLISH
X-WR-CALNAME:CKDH
X-ORIGINAL-URL:https://ckdh.com
X-WR-CALDESC:Events for CKDH
BEGIN:VEVENT
DTSTART;VALUE=DATE:20171213
DTEND;VALUE=DATE:20171214
DTSTAMP:20260419T132421
CREATED:20171212T134101Z
LAST-MODIFIED:20171212T134101Z
UID:1918-1513123200-1513209599@ckdh.com
SUMMARY:Light the Way
DESCRIPTION:The annual Cumberland Health Care Foundation “Light the Way” campaign continues til end of the month\, to raise money to buy medical equipment. You can buy a light\, wreath\, snowman\, or angel and dedicate it in someone’s memory or in honor of someone special to you. Drop into the Foundation office at the hospital or online at\, chcfoundation.com \n
URL:https://ckdh.com/event/light-the-way-2/
END:VEVENT
END:VCALENDAR